BEGIN:VCALENDAR
VERSION:2.0
PRODID:-//My Own Defender - ECPv6.15.20//NONSGML v1.0//EN
CALSCALE:GREGORIAN
METHOD:PUBLISH
X-WR-CALNAME:My Own Defender
X-ORIGINAL-URL:https://myowndefender.com
X-WR-CALDESC:Events for My Own Defender
REFRESH-INTERVAL;VALUE=DURATION:PT1H
X-Robots-Tag:noindex
X-PUBLISHED-TTL:PT1H
BEGIN:VTIMEZONE
TZID:America/Los_Angeles
BEGIN:DAYLIGHT
TZOFFSETFROM:-0800
TZOFFSETTO:-0700
TZNAME:PDT
DTSTART:20220313T100000
END:DAYLIGHT
BEGIN:STANDARD
TZOFFSETFROM:-0700
TZOFFSETTO:-0800
TZNAME:PST
DTSTART:20221106T090000
END:STANDARD
BEGIN:DAYLIGHT
TZOFFSETFROM:-0800
TZOFFSETTO:-0700
TZNAME:PDT
DTSTART:20230312T100000
END:DAYLIGHT
BEGIN:STANDARD
TZOFFSETFROM:-0700
TZOFFSETTO:-0800
TZNAME:PST
DTSTART:20231105T090000
END:STANDARD
BEGIN:DAYLIGHT
TZOFFSETFROM:-0800
TZOFFSETTO:-0700
TZNAME:PDT
DTSTART:20240310T100000
END:DAYLIGHT
BEGIN:STANDARD
TZOFFSETFROM:-0700
TZOFFSETTO:-0800
TZNAME:PST
DTSTART:20241103T090000
END:STANDARD
END:VTIMEZONE
BEGIN:VEVENT
DTSTART;VALUE=DATE:20230331
DTEND;VALUE=DATE:20230404
DTSTAMP:20260422T181220
CREATED:20230124T215825Z
LAST-MODIFIED:20230124T215825Z
UID:2642-1680220800-1680566399@myowndefender.com
SUMMARY:TEACHING AT PSTG SUMMIT
DESCRIPTION:
URL:https://myowndefender.com/event/teaching-at-pstg-summit/
END:VEVENT
BEGIN:VEVENT
DTSTART;VALUE=DATE:20230415
DTEND;VALUE=DATE:20230416
DTSTAMP:20260422T181220
CREATED:20230124T224647Z
LAST-MODIFIED:20230124T224647Z
UID:2648-1681516800-1681603199@myowndefender.com
SUMMARY:CHP
DESCRIPTION:
URL:https://myowndefender.com/event/chp-3/
END:VEVENT
BEGIN:VEVENT
DTSTART;VALUE=DATE:20230416
DTEND;VALUE=DATE:20230417
DTSTAMP:20260422T181220
CREATED:20230124T212602Z
LAST-MODIFIED:20230124T214454Z
UID:2618-1681603200-1681689599@myowndefender.com
SUMMARY:Skill Builder
DESCRIPTION:
URL:https://myowndefender.com/event/skill-builder/
LOCATION:Azusa\, CA\, 22100 E Fork Rd\, Azusa\, CA\, 91702\, United States
END:VEVENT
BEGIN:VEVENT
DTSTART;VALUE=DATE:20230417
DTEND;VALUE=DATE:20230418
DTSTAMP:20260422T181220
CREATED:20230124T214835Z
LAST-MODIFIED:20230124T214835Z
UID:2638-1681689600-1681775999@myowndefender.com
SUMMARY:PRIVATE
DESCRIPTION:
URL:https://myowndefender.com/event/private-4/
END:VEVENT
BEGIN:VEVENT
DTSTART;VALUE=DATE:20230422
DTEND;VALUE=DATE:20230424
DTSTAMP:20260422T181220
CREATED:20230124T224830Z
LAST-MODIFIED:20230124T224830Z
UID:2650-1682121600-1682294399@myowndefender.com
SUMMARY:Dragon's Cup
DESCRIPTION:
URL:https://myowndefender.com/event/dragons-cup/
END:VEVENT
BEGIN:VEVENT
DTSTART;VALUE=DATE:20230428
DTEND;VALUE=DATE:20230430
DTSTAMP:20260422T181220
CREATED:20230124T225033Z
LAST-MODIFIED:20230124T225033Z
UID:2652-1682640000-1682812799@myowndefender.com
SUMMARY:Pistol Dominance 2 Day
DESCRIPTION:
URL:https://myowndefender.com/event/pistol-dominance-2-day/
LOCATION:Tucson\, AZ\, AZ\, United States
END:VEVENT
END:VCALENDAR