BEGIN:VCALENDAR
VERSION:2.0
PRODID:-//My Own Defender - ECPv6.15.20//NONSGML v1.0//EN
CALSCALE:GREGORIAN
METHOD:PUBLISH
X-WR-CALNAME:My Own Defender
X-ORIGINAL-URL:https://myowndefender.com
X-WR-CALDESC:Events for My Own Defender
REFRESH-INTERVAL;VALUE=DURATION:PT1H
X-Robots-Tag:noindex
X-PUBLISHED-TTL:PT1H
BEGIN:VTIMEZONE
TZID:America/Los_Angeles
BEGIN:DAYLIGHT
TZOFFSETFROM:-0800
TZOFFSETTO:-0700
TZNAME:PDT
DTSTART:20220313T100000
END:DAYLIGHT
BEGIN:STANDARD
TZOFFSETFROM:-0700
TZOFFSETTO:-0800
TZNAME:PST
DTSTART:20221106T090000
END:STANDARD
BEGIN:DAYLIGHT
TZOFFSETFROM:-0800
TZOFFSETTO:-0700
TZNAME:PDT
DTSTART:20230312T100000
END:DAYLIGHT
BEGIN:STANDARD
TZOFFSETFROM:-0700
TZOFFSETTO:-0800
TZNAME:PST
DTSTART:20231105T090000
END:STANDARD
BEGIN:DAYLIGHT
TZOFFSETFROM:-0800
TZOFFSETTO:-0700
TZNAME:PDT
DTSTART:20240310T100000
END:DAYLIGHT
BEGIN:STANDARD
TZOFFSETFROM:-0700
TZOFFSETTO:-0800
TZNAME:PST
DTSTART:20241103T090000
END:STANDARD
END:VTIMEZONE
BEGIN:VEVENT
DTSTART;VALUE=DATE:20230610
DTEND;VALUE=DATE:20230611
DTSTAMP:20260422T152717
CREATED:20230124T230543Z
LAST-MODIFIED:20230124T230543Z
UID:2657-1686355200-1686441599@myowndefender.com
SUMMARY:CHP
DESCRIPTION:
URL:https://myowndefender.com/event/chp-5/
END:VEVENT
BEGIN:VEVENT
DTSTART;VALUE=DATE:20230611
DTEND;VALUE=DATE:20230612
DTSTAMP:20260422T152717
CREATED:20230124T212809Z
LAST-MODIFIED:20230124T214516Z
UID:2621-1686441600-1686527999@myowndefender.com
SUMMARY:Pistol Dominance 1 Day
DESCRIPTION:
URL:https://myowndefender.com/event/pistol-dominance-1-day/
LOCATION:Azusa\, CA\, 22100 E Fork Rd\, Azusa\, CA\, 91702\, United States
END:VEVENT
BEGIN:VEVENT
DTSTART;VALUE=DATE:20230624
DTEND;VALUE=DATE:20230626
DTSTAMP:20260422T152717
CREATED:20230124T230655Z
LAST-MODIFIED:20230124T230655Z
UID:2659-1687564800-1687737599@myowndefender.com
SUMMARY:USPSA NATIONALS
DESCRIPTION:
URL:https://myowndefender.com/event/uspsa-nationals/
END:VEVENT
END:VCALENDAR