BEGIN:VCALENDAR
VERSION:2.0
PRODID:-//My Own Defender - ECPv6.15.20//NONSGML v1.0//EN
CALSCALE:GREGORIAN
METHOD:PUBLISH
X-ORIGINAL-URL:https://myowndefender.com
X-WR-CALDESC:Events for My Own Defender
REFRESH-INTERVAL;VALUE=DURATION:PT1H
X-Robots-Tag:noindex
X-PUBLISHED-TTL:PT1H
BEGIN:VTIMEZONE
TZID:America/Los_Angeles
BEGIN:DAYLIGHT
TZOFFSETFROM:-0800
TZOFFSETTO:-0700
TZNAME:PDT
DTSTART:20230312T100000
END:DAYLIGHT
BEGIN:STANDARD
TZOFFSETFROM:-0700
TZOFFSETTO:-0800
TZNAME:PST
DTSTART:20231105T090000
END:STANDARD
BEGIN:DAYLIGHT
TZOFFSETFROM:-0800
TZOFFSETTO:-0700
TZNAME:PDT
DTSTART:20240310T100000
END:DAYLIGHT
BEGIN:STANDARD
TZOFFSETFROM:-0700
TZOFFSETTO:-0800
TZNAME:PST
DTSTART:20241103T090000
END:STANDARD
BEGIN:DAYLIGHT
TZOFFSETFROM:-0800
TZOFFSETTO:-0700
TZNAME:PDT
DTSTART:20250309T100000
END:DAYLIGHT
BEGIN:STANDARD
TZOFFSETFROM:-0700
TZOFFSETTO:-0800
TZNAME:PST
DTSTART:20251102T090000
END:STANDARD
END:VTIMEZONE
BEGIN:VEVENT
DTSTART;VALUE=DATE:20240210
DTEND;VALUE=DATE:20240212
DTSTAMP:20260422T031950
CREATED:20231016T203913Z
LAST-MODIFIED:20231016T203913Z
UID:3105-1707523200-1707695999@myowndefender.com
SUMMARY:Run Your Gun NOT Your Mouth
DESCRIPTION:
URL:https://myowndefender.com/event/run-your-gun-not-your-mouth-2/
LOCATION:Lopez Shooting Range\, 15140 Bailey Rd\, Sylmar\, CA\, 91342\, United States
END:VEVENT
BEGIN:VEVENT
DTSTART;VALUE=DATE:20240216
DTEND;VALUE=DATE:20240218
DTSTAMP:20260422T031950
CREATED:20230704T174726Z
LAST-MODIFIED:20230730T133905Z
UID:2977-1708041600-1708214399@myowndefender.com
SUMMARY:MOD/VTG 2-DAY PISTOL / RIFLE
DESCRIPTION:
URL:https://myowndefender.com/event/mod-vtg-2-day-pistol-rifle/
LOCATION:Tucson\, AZ\, AZ\, United States
END:VEVENT
BEGIN:VEVENT
DTSTART;VALUE=DATE:20240225
DTEND;VALUE=DATE:20240226
DTSTAMP:20260422T031950
CREATED:20231016T204206Z
LAST-MODIFIED:20231016T204206Z
UID:3108-1708819200-1708905599@myowndefender.com
SUMMARY:AIWB Pistol
DESCRIPTION:
URL:https://myowndefender.com/event/aiwb-pistol-3/
LOCATION:Azusa\, CA\, 22100 E Fork Rd\, Azusa\, CA\, 91702\, United States
END:VEVENT
END:VCALENDAR